BEGIN:VCALENDAR
VERSION:2.0
PRODID:-//Juneau Yacht Club - ECPv6.15.20//NONSGML v1.0//EN
CALSCALE:GREGORIAN
METHOD:PUBLISH
X-WR-CALNAME:Juneau Yacht Club
X-ORIGINAL-URL:https://juneauyc.org
X-WR-CALDESC:Events for Juneau Yacht Club
REFRESH-INTERVAL;VALUE=DURATION:PT1H
X-Robots-Tag:noindex
X-PUBLISHED-TTL:PT1H
BEGIN:VTIMEZONE
TZID:America/Anchorage
BEGIN:DAYLIGHT
TZOFFSETFROM:-0900
TZOFFSETTO:-0800
TZNAME:AKDT
DTSTART:20250309T110000
END:DAYLIGHT
BEGIN:STANDARD
TZOFFSETFROM:-0800
TZOFFSETTO:-0900
TZNAME:AKST
DTSTART:20251102T100000
END:STANDARD
BEGIN:DAYLIGHT
TZOFFSETFROM:-0900
TZOFFSETTO:-0800
TZNAME:AKDT
DTSTART:20260308T110000
END:DAYLIGHT
BEGIN:STANDARD
TZOFFSETFROM:-0800
TZOFFSETTO:-0900
TZNAME:AKST
DTSTART:20261101T100000
END:STANDARD
BEGIN:DAYLIGHT
TZOFFSETFROM:-0900
TZOFFSETTO:-0800
TZNAME:AKDT
DTSTART:20270314T110000
END:DAYLIGHT
BEGIN:STANDARD
TZOFFSETFROM:-0800
TZOFFSETTO:-0900
TZNAME:AKST
DTSTART:20271107T100000
END:STANDARD
END:VTIMEZONE
BEGIN:VEVENT
DTSTART;TZID=America/Anchorage:20260618T080000
DTEND;TZID=America/Anchorage:20260618T163000
DTSTAMP:20260423T011302
CREATED:20251204T015613Z
LAST-MODIFIED:20251204T015613Z
UID:10001288-1781769600-1781800200@juneauyc.org
SUMMARY:Juneau Youth Sailing
DESCRIPTION:Graham Room – Carl Broderson
URL:https://juneauyc.org/event/juneau-youth-sailing-70/2026-06-18
LOCATION:Juneau Yacht Club\, 1301 Harbor Way\, Juneau\, AK\, 99801\, United States
END:VEVENT
BEGIN:VEVENT
DTSTART;TZID=America/Anchorage:20260618T150000
DTEND;TZID=America/Anchorage:20260618T210000
DTSTAMP:20260423T011302
CREATED:20251101T230925Z
LAST-MODIFIED:20260223T084322Z
UID:10000640-1781794800-1781816400@juneauyc.org
SUMMARY:JYC Social
DESCRIPTION:Whole Facility \nRestacking Tables & Chairs \nWashing of Dishes
URL:https://juneauyc.org/event/jyc-social-3-2-2-2/2026-06-18
LOCATION:Juneau Yacht Club\, 1301 Harbor Way\, Juneau\, AK\, 99801\, United States
END:VEVENT
BEGIN:VEVENT
DTSTART;TZID=America/Anchorage:20260618T160000
DTEND;TZID=America/Anchorage:20260618T235900
DTSTAMP:20260423T011302
CREATED:20260216T225936Z
LAST-MODIFIED:20260216T225936Z
UID:10001330-1781798400-1781827140@juneauyc.org
SUMMARY:Lucas Mattson Celebration of Life
DESCRIPTION:Full Facility Rental – Video Projector & Screen – Jennifer Schoeppe
URL:https://juneauyc.org/event/lucas-mattson-celebration-of-life
LOCATION:Juneau Yacht Club\, 1301 Harbor Way\, Juneau\, AK\, 99801\, United States
END:VEVENT
END:VCALENDAR