BEGIN:VCALENDAR
VERSION:2.0
PRODID:-//Juneau Yacht Club - ECPv6.15.20//NONSGML v1.0//EN
CALSCALE:GREGORIAN
METHOD:PUBLISH
X-WR-CALNAME:Juneau Yacht Club
X-ORIGINAL-URL:https://juneauyc.org
X-WR-CALDESC:Events for Juneau Yacht Club
REFRESH-INTERVAL;VALUE=DURATION:PT1H
X-Robots-Tag:noindex
X-PUBLISHED-TTL:PT1H
BEGIN:VTIMEZONE
TZID:America/Anchorage
BEGIN:DAYLIGHT
TZOFFSETFROM:-0900
TZOFFSETTO:-0800
TZNAME:AKDT
DTSTART:20250309T110000
END:DAYLIGHT
BEGIN:STANDARD
TZOFFSETFROM:-0800
TZOFFSETTO:-0900
TZNAME:AKST
DTSTART:20251102T100000
END:STANDARD
BEGIN:DAYLIGHT
TZOFFSETFROM:-0900
TZOFFSETTO:-0800
TZNAME:AKDT
DTSTART:20260308T110000
END:DAYLIGHT
BEGIN:STANDARD
TZOFFSETFROM:-0800
TZOFFSETTO:-0900
TZNAME:AKST
DTSTART:20261101T100000
END:STANDARD
BEGIN:DAYLIGHT
TZOFFSETFROM:-0900
TZOFFSETTO:-0800
TZNAME:AKDT
DTSTART:20270314T110000
END:DAYLIGHT
BEGIN:STANDARD
TZOFFSETFROM:-0800
TZOFFSETTO:-0900
TZNAME:AKST
DTSTART:20271107T100000
END:STANDARD
END:VTIMEZONE
BEGIN:VEVENT
DTSTART;TZID=America/Anchorage:20260621T120000
DTEND;TZID=America/Anchorage:20260621T190000
DTSTAMP:20260423T034443
CREATED:20260415T013301Z
LAST-MODIFIED:20260415T013301Z
UID:10001365-1782043200-1782068400@juneauyc.org
SUMMARY:US Coast Guard Auxiliary Boat American Class
DESCRIPTION:Main Hall Only Rental – Sean McDermott
URL:https://juneauyc.org/event/us-coast-guard-auxiliary-boat-american-class-2
LOCATION:Juneau Yacht Club\, 1301 Harbor Way\, Juneau\, AK\, 99801\, United States
END:VEVENT
END:VCALENDAR