BEGIN:VCALENDAR
VERSION:2.0
PRODID:-//Juneau Yacht Club - ECPv6.15.20//NONSGML v1.0//EN
CALSCALE:GREGORIAN
METHOD:PUBLISH
X-ORIGINAL-URL:https://juneauyc.org
X-WR-CALDESC:Events for Juneau Yacht Club
REFRESH-INTERVAL;VALUE=DURATION:PT1H
X-Robots-Tag:noindex
X-PUBLISHED-TTL:PT1H
BEGIN:VTIMEZONE
TZID:America/Anchorage
BEGIN:DAYLIGHT
TZOFFSETFROM:-0900
TZOFFSETTO:-0800
TZNAME:AKDT
DTSTART:20240310T110000
END:DAYLIGHT
BEGIN:STANDARD
TZOFFSETFROM:-0800
TZOFFSETTO:-0900
TZNAME:AKST
DTSTART:20241103T100000
END:STANDARD
BEGIN:DAYLIGHT
TZOFFSETFROM:-0900
TZOFFSETTO:-0800
TZNAME:AKDT
DTSTART:20250309T110000
END:DAYLIGHT
BEGIN:STANDARD
TZOFFSETFROM:-0800
TZOFFSETTO:-0900
TZNAME:AKST
DTSTART:20251102T100000
END:STANDARD
BEGIN:DAYLIGHT
TZOFFSETFROM:-0900
TZOFFSETTO:-0800
TZNAME:AKDT
DTSTART:20260308T110000
END:DAYLIGHT
BEGIN:STANDARD
TZOFFSETFROM:-0800
TZOFFSETTO:-0900
TZNAME:AKST
DTSTART:20261101T100000
END:STANDARD
END:VTIMEZONE
BEGIN:VEVENT
DTSTART;TZID=America/Anchorage:20250808T130000
DTEND;TZID=America/Anchorage:20250808T210000
DTSTAMP:20260425T054215
CREATED:20250507T162955Z
LAST-MODIFIED:20250507T164158Z
UID:10001045-1754658000-1754686800@juneauyc.org
SUMMARY:STORIS Commissioning
DESCRIPTION:Entire Facility – Carl Uchytil
URL:https://juneauyc.org/event/storis-commissioning
LOCATION:Juneau Yacht Club\, 1301 Harbor Way\, Juneau\, AK\, 99801\, United States
END:VEVENT
BEGIN:VEVENT
DTSTART;TZID=America/Anchorage:20250809T170000
DTEND;TZID=America/Anchorage:20250809T210000
DTSTAMP:20260425T054215
CREATED:20250804T002506Z
LAST-MODIFIED:20250808T132432Z
UID:10001100-1754758800-1754773200@juneauyc.org
SUMMARY:BBQ Wolfe
DESCRIPTION:Entire Facility\, Restacking of Table/Chairs – Dawn Wolfe
URL:https://juneauyc.org/event/bbq-wolfe
LOCATION:Juneau Yacht Club\, 1301 Harbor Way\, Juneau\, AK\, 99801\, United States
END:VEVENT
BEGIN:VEVENT
DTSTART;TZID=America/Anchorage:20250814T150000
DTEND;TZID=America/Anchorage:20250814T210000
DTSTAMP:20260425T054215
CREATED:20240628T204719Z
LAST-MODIFIED:20250804T072300Z
UID:10000332-1755183600-1755205200@juneauyc.org
SUMMARY:JYC Social
DESCRIPTION:Whole Facility \nRestacking Tables & Chairs \nWashing of Dishes
URL:https://juneauyc.org/event/jyc-social-3-2-2/2025-08-14
LOCATION:AK
END:VEVENT
BEGIN:VEVENT
DTSTART;TZID=America/Anchorage:20250815T090000
DTEND;TZID=America/Anchorage:20250815T230000
DTSTAMP:20260425T054215
CREATED:20250403T191029Z
LAST-MODIFIED:20250403T191029Z
UID:10001036-1755248400-1755298800@juneauyc.org
SUMMARY:Staff Event
DESCRIPTION:Entire Facility – Alfred Wilson Jr.
URL:https://juneauyc.org/event/staff-event
LOCATION:Juneau Yacht Club\, 1301 Harbor Way\, Juneau\, AK\, 99801\, United States
END:VEVENT
BEGIN:VEVENT
DTSTART;TZID=America/Anchorage:20250817T100000
DTEND;TZID=America/Anchorage:20250817T140000
DTSTAMP:20260425T054215
CREATED:20250713T000002Z
LAST-MODIFIED:20250804T233654Z
UID:10001095-1755424800-1755439200@juneauyc.org
SUMMARY:Nave Baby Shower
DESCRIPTION:Graham Room Only – Susan Ashbaugh \n(Ten additional chairs and one rectangle table)
URL:https://juneauyc.org/event/baby-shower-9
LOCATION:Juneau Yacht Club\, 1301 Harbor Way\, Juneau\, AK\, 99801\, United States
END:VEVENT
BEGIN:VEVENT
DTSTART;TZID=America/Anchorage:20250821T150000
DTEND;TZID=America/Anchorage:20250821T210000
DTSTAMP:20260425T054215
CREATED:20240628T204719Z
LAST-MODIFIED:20250804T072300Z
UID:10000333-1755788400-1755810000@juneauyc.org
SUMMARY:JYC Social
DESCRIPTION:Whole Facility \nRestacking Tables & Chairs \nWashing of Dishes
URL:https://juneauyc.org/event/jyc-social-3-2-2/2025-08-21
LOCATION:AK
END:VEVENT
BEGIN:VEVENT
DTSTART;TZID=America/Anchorage:20250828T150000
DTEND;TZID=America/Anchorage:20250828T210000
DTSTAMP:20260425T054215
CREATED:20240628T204719Z
LAST-MODIFIED:20250804T072300Z
UID:10000334-1756393200-1756414800@juneauyc.org
SUMMARY:JYC Social
DESCRIPTION:Whole Facility \nRestacking Tables & Chairs \nWashing of Dishes
URL:https://juneauyc.org/event/jyc-social-3-2-2/2025-08-28
LOCATION:AK
END:VEVENT
BEGIN:VEVENT
DTSTART;TZID=America/Anchorage:20250829T150000
DTEND;TZID=America/Anchorage:20250829T213000
DTSTAMP:20260425T054215
CREATED:20240925T193636Z
LAST-MODIFIED:20240925T193636Z
UID:10000883-1756479600-1756503000@juneauyc.org
SUMMARY:Dinner Meeting
DESCRIPTION:Main Hall – Pioneers of Alaska
URL:https://juneauyc.org/event/dinner-meeting-16
LOCATION:Juneau Yacht Club\, 1301 Harbor Way\, Juneau\, AK\, 99801\, United States
END:VEVENT
BEGIN:VEVENT
DTSTART;TZID=America/Anchorage:20250830T150000
DTEND;TZID=America/Anchorage:20250830T230000
DTSTAMP:20260425T054215
CREATED:20241204T182039Z
LAST-MODIFIED:20250216T013606Z
UID:10000988-1756566000-1756594800@juneauyc.org
SUMMARY:Wedding Reception
DESCRIPTION:Entire Facility\, Video Projector & Screen\, Restacking of Table & Chairs – Christina Lara
URL:https://juneauyc.org/event/wedding-reception-26
LOCATION:Juneau Yacht Club\, 1301 Harbor Way\, Juneau\, AK\, 99801\, United States
END:VEVENT
BEGIN:VEVENT
DTSTART;TZID=America/Anchorage:20250831T080000
DTEND;TZID=America/Anchorage:20250831T235900
DTSTAMP:20260425T054215
CREATED:20250527T215650Z
LAST-MODIFIED:20250527T220218Z
UID:10001080-1756627200-1756684740@juneauyc.org
SUMMARY:Wedding MGW Pre Event Set-Up
DESCRIPTION:Main Hall Only – Christine Moleski
URL:https://juneauyc.org/event/wedding-mgw-set-up
LOCATION:Juneau Yacht Club\, 1301 Harbor Way\, Juneau\, AK\, 99801\, United States
END:VEVENT
END:VCALENDAR