BEGIN:VCALENDAR
VERSION:2.0
PRODID:-//Juneau Yacht Club - ECPv6.15.20//NONSGML v1.0//EN
CALSCALE:GREGORIAN
METHOD:PUBLISH
X-ORIGINAL-URL:https://juneauyc.org
X-WR-CALDESC:Events for Juneau Yacht Club
REFRESH-INTERVAL;VALUE=DURATION:PT1H
X-Robots-Tag:noindex
X-PUBLISHED-TTL:PT1H
BEGIN:VTIMEZONE
TZID:America/Anchorage
BEGIN:DAYLIGHT
TZOFFSETFROM:-0900
TZOFFSETTO:-0800
TZNAME:AKDT
DTSTART:20240310T110000
END:DAYLIGHT
BEGIN:STANDARD
TZOFFSETFROM:-0800
TZOFFSETTO:-0900
TZNAME:AKST
DTSTART:20241103T100000
END:STANDARD
BEGIN:DAYLIGHT
TZOFFSETFROM:-0900
TZOFFSETTO:-0800
TZNAME:AKDT
DTSTART:20250309T110000
END:DAYLIGHT
BEGIN:STANDARD
TZOFFSETFROM:-0800
TZOFFSETTO:-0900
TZNAME:AKST
DTSTART:20251102T100000
END:STANDARD
BEGIN:DAYLIGHT
TZOFFSETFROM:-0900
TZOFFSETTO:-0800
TZNAME:AKDT
DTSTART:20260308T110000
END:DAYLIGHT
BEGIN:STANDARD
TZOFFSETFROM:-0800
TZOFFSETTO:-0900
TZNAME:AKST
DTSTART:20261101T100000
END:STANDARD
END:VTIMEZONE
BEGIN:VEVENT
DTSTART;TZID=America/Anchorage:20250901T080000
DTEND;TZID=America/Anchorage:20250901T235900
DTSTAMP:20260425T065742
CREATED:20250527T215805Z
LAST-MODIFIED:20250527T215805Z
UID:10001081-1756713600-1756771140@juneauyc.org
SUMMARY:Wedding MGW
DESCRIPTION:Entire Facility – Christine Moleski
URL:https://juneauyc.org/event/wedding-mgw
LOCATION:Juneau Yacht Club\, 1301 Harbor Way\, Juneau\, AK\, 99801\, United States
END:VEVENT
BEGIN:VEVENT
DTSTART;TZID=America/Anchorage:20250902T080000
DTEND;TZID=America/Anchorage:20250902T235900
DTSTAMP:20260425T065742
CREATED:20250527T220036Z
LAST-MODIFIED:20250527T220036Z
UID:10001083-1756800000-1756857540@juneauyc.org
SUMMARY:Wedding MGW Post Event Clean UP
DESCRIPTION:Entire Facility – Christine Moleski
URL:https://juneauyc.org/event/wedding-mgw-post-event-clean-up
LOCATION:Juneau Yacht Club\, 1301 Harbor Way\, Juneau\, AK\, 99801\, United States
END:VEVENT
BEGIN:VEVENT
DTSTART;TZID=America/Anchorage:20250904T150000
DTEND;TZID=America/Anchorage:20250904T210000
DTSTAMP:20260425T065742
CREATED:20240628T204719Z
LAST-MODIFIED:20250804T072300Z
UID:10000335-1756998000-1757019600@juneauyc.org
SUMMARY:JYC Social
DESCRIPTION:Whole Facility \nRestacking Tables & Chairs \nWashing of Dishes
URL:https://juneauyc.org/event/jyc-social-3-2-2/2025-09-04
LOCATION:AK
END:VEVENT
BEGIN:VEVENT
DTSTART;TZID=America/Anchorage:20250906T170000
DTEND;TZID=America/Anchorage:20250906T230000
DTSTAMP:20260425T065742
CREATED:20250223T183920Z
LAST-MODIFIED:20250223T183920Z
UID:10001014-1757178000-1757199600@juneauyc.org
SUMMARY:Hebert Wedding Reception
DESCRIPTION:Entire Facility – Kendie Hebert
URL:https://juneauyc.org/event/hebert-wedding-reception
LOCATION:Juneau Yacht Club\, 1301 Harbor Way\, Juneau\, AK\, 99801\, United States
END:VEVENT
BEGIN:VEVENT
DTSTART;TZID=America/Anchorage:20250911T150000
DTEND;TZID=America/Anchorage:20250911T210000
DTSTAMP:20260425T065742
CREATED:20240628T204719Z
LAST-MODIFIED:20250804T072300Z
UID:10000336-1757602800-1757624400@juneauyc.org
SUMMARY:JYC Social
DESCRIPTION:Whole Facility \nRestacking Tables & Chairs \nWashing of Dishes
URL:https://juneauyc.org/event/jyc-social-3-2-2/2025-09-11
LOCATION:AK
END:VEVENT
BEGIN:VEVENT
DTSTART;TZID=America/Anchorage:20250912T120000
DTEND;TZID=America/Anchorage:20250912T210000
DTSTAMP:20260425T065742
CREATED:20250614T144812Z
LAST-MODIFIED:20250614T144812Z
UID:10001088-1757678400-1757710800@juneauyc.org
SUMMARY:JEA Fall Social
DESCRIPTION:Main Hall Only – Cheyenne Cuellar
URL:https://juneauyc.org/event/jea-fall-social
LOCATION:Juneau Yacht Club\, 1301 Harbor Way\, Juneau\, AK\, 99801\, United States
END:VEVENT
BEGIN:VEVENT
DTSTART;TZID=America/Anchorage:20250917T133000
DTEND;TZID=America/Anchorage:20250917T203000
DTSTAMP:20260425T065742
CREATED:20250123T184539Z
LAST-MODIFIED:20250216T013729Z
UID:10001006-1758115800-1758141000@juneauyc.org
SUMMARY:Philanthropy Celebration
DESCRIPTION:Entire Facility\, Restacking of Table & Chairs – Juneau Community Foundation – Christy Ciambor
URL:https://juneauyc.org/event/philanthropy-celebration
LOCATION:Juneau Yacht Club\, 1301 Harbor Way\, Juneau\, AK\, 99801\, United States
END:VEVENT
BEGIN:VEVENT
DTSTART;TZID=America/Anchorage:20250918T150000
DTEND;TZID=America/Anchorage:20250918T210000
DTSTAMP:20260425T065742
CREATED:20250916T185740Z
LAST-MODIFIED:20250916T185925Z
UID:10000337-1758207600-1758229200@juneauyc.org
SUMMARY:JYC Annual Meeting
DESCRIPTION:Whole Facility \nRestacking Tables & Chairs \nWashing of Dishes
URL:https://juneauyc.org/event/jyc-social-5
LOCATION:AK
END:VEVENT
BEGIN:VEVENT
DTSTART;TZID=America/Anchorage:20250919T150000
DTEND;TZID=America/Anchorage:20250919T210000
DTSTAMP:20260425T065742
CREATED:20241023T224548Z
LAST-MODIFIED:20241023T224548Z
UID:10000908-1758294000-1758315600@juneauyc.org
SUMMARY:Pioneers of Alaska Meeting
DESCRIPTION:Main Hall – Fredrik Thorsteinson
URL:https://juneauyc.org/event/pioneers-of-alaska-meeting-6
LOCATION:Juneau Yacht Club\, 1301 Harbor Way\, Juneau\, AK\, 99801\, United States
END:VEVENT
BEGIN:VEVENT
DTSTART;TZID=America/Anchorage:20250920T110000
DTEND;TZID=America/Anchorage:20250920T230000
DTSTAMP:20260425T065742
CREATED:20250712T235049Z
LAST-MODIFIED:20250712T235049Z
UID:10001094-1758366000-1758409200@juneauyc.org
SUMMARY:Wedding Reception
DESCRIPTION:Entire Facility – Corrina Nakamura
URL:https://juneauyc.org/event/wedding-reception-30
LOCATION:Juneau Yacht Club\, 1301 Harbor Way\, Juneau\, AK\, 99801\, United States
END:VEVENT
BEGIN:VEVENT
DTSTART;TZID=America/Anchorage:20250921T100000
DTEND;TZID=America/Anchorage:20250921T160000
DTSTAMP:20260425T065742
CREATED:20250828T185454Z
LAST-MODIFIED:20250828T185454Z
UID:10001118-1758448800-1758470400@juneauyc.org
SUMMARY:Memorial Service
DESCRIPTION:Main Hall Only\, Video Projector & Screen – Alicia Godkin
URL:https://juneauyc.org/event/memorial-service-4
LOCATION:Juneau Yacht Club\, 1301 Harbor Way\, Juneau\, AK\, 99801\, United States
END:VEVENT
BEGIN:VEVENT
DTSTART;TZID=America/Anchorage:20250923T080000
DTEND;TZID=America/Anchorage:20250923T160000
DTSTAMP:20260425T065742
CREATED:20250821T103145Z
LAST-MODIFIED:20250821T103145Z
UID:10001113-1758614400-1758643200@juneauyc.org
SUMMARY:D&H Transportation Meetings
DESCRIPTION:Main Hall – Scott Hinton
URL:https://juneauyc.org/event/dh-transportation-meetings
LOCATION:Juneau Yacht Club\, 1301 Harbor Way\, Juneau\, AK\, 99801\, United States
END:VEVENT
BEGIN:VEVENT
DTSTART;TZID=America/Anchorage:20250925T150000
DTEND;TZID=America/Anchorage:20250925T210000
DTSTAMP:20260425T065742
CREATED:20240628T204719Z
LAST-MODIFIED:20250804T072300Z
UID:10000338-1758812400-1758834000@juneauyc.org
SUMMARY:JYC Social
DESCRIPTION:Whole Facility \nRestacking Tables & Chairs \nWashing of Dishes
URL:https://juneauyc.org/event/jyc-social-3-2-2/2025-09-25
LOCATION:AK
END:VEVENT
BEGIN:VEVENT
DTSTART;TZID=America/Anchorage:20250927T090000
DTEND;TZID=America/Anchorage:20250927T230000
DTSTAMP:20260425T065742
CREATED:20250824T185333Z
LAST-MODIFIED:20250908T181657Z
UID:10001117-1758963600-1759014000@juneauyc.org
SUMMARY:College Graduation Party
DESCRIPTION:Main Hall Only\, Restacking of Table & Chairs – Lurline Aliki
URL:https://juneauyc.org/event/college-graduation-party
LOCATION:Juneau Yacht Club\, 1301 Harbor Way\, Juneau\, AK\, 99801\, United States
END:VEVENT
END:VCALENDAR