BEGIN:VCALENDAR
VERSION:2.0
PRODID:-//Juneau Yacht Club - ECPv6.15.20//NONSGML v1.0//EN
CALSCALE:GREGORIAN
METHOD:PUBLISH
X-ORIGINAL-URL:https://juneauyc.org
X-WR-CALDESC:Events for Juneau Yacht Club
REFRESH-INTERVAL;VALUE=DURATION:PT1H
X-Robots-Tag:noindex
X-PUBLISHED-TTL:PT1H
BEGIN:VTIMEZONE
TZID:America/Anchorage
BEGIN:DAYLIGHT
TZOFFSETFROM:-0900
TZOFFSETTO:-0800
TZNAME:AKDT
DTSTART:20240310T110000
END:DAYLIGHT
BEGIN:STANDARD
TZOFFSETFROM:-0800
TZOFFSETTO:-0900
TZNAME:AKST
DTSTART:20241103T100000
END:STANDARD
BEGIN:DAYLIGHT
TZOFFSETFROM:-0900
TZOFFSETTO:-0800
TZNAME:AKDT
DTSTART:20250309T110000
END:DAYLIGHT
BEGIN:STANDARD
TZOFFSETFROM:-0800
TZOFFSETTO:-0900
TZNAME:AKST
DTSTART:20251102T100000
END:STANDARD
BEGIN:DAYLIGHT
TZOFFSETFROM:-0900
TZOFFSETTO:-0800
TZNAME:AKDT
DTSTART:20260308T110000
END:DAYLIGHT
BEGIN:STANDARD
TZOFFSETFROM:-0800
TZOFFSETTO:-0900
TZNAME:AKST
DTSTART:20261101T100000
END:STANDARD
END:VTIMEZONE
BEGIN:VEVENT
DTSTART;TZID=America/Anchorage:20251002T150000
DTEND;TZID=America/Anchorage:20251002T210000
DTSTAMP:20260423T153132
CREATED:20240628T204719Z
LAST-MODIFIED:20250804T072300Z
UID:10000339-1759417200-1759438800@juneauyc.org
SUMMARY:JYC Social
DESCRIPTION:Whole Facility \nRestacking Tables & Chairs \nWashing of Dishes
URL:https://juneauyc.org/event/jyc-social-3-2-2/2025-10-02
LOCATION:AK
END:VEVENT
BEGIN:VEVENT
DTSTART;TZID=America/Anchorage:20251004T080000
DTEND;TZID=America/Anchorage:20251004T235900
DTSTAMP:20260423T153132
CREATED:20250822T221017Z
LAST-MODIFIED:20250822T221017Z
UID:10001115-1759564800-1759622340@juneauyc.org
SUMMARY:Bartlett Foundation Donor Appreciation Dinner
DESCRIPTION:Entire Facility\, Restacking of Table & Chairs – Melissa McCormick
URL:https://juneauyc.org/event/bartlett-foundation-donor-appreciation-dinner
LOCATION:Juneau Yacht Club\, 1301 Harbor Way\, Juneau\, AK\, 99801\, United States
END:VEVENT
BEGIN:VEVENT
DTSTART;TZID=America/Anchorage:20251009T150000
DTEND;TZID=America/Anchorage:20251009T210000
DTSTAMP:20260423T153132
CREATED:20240628T204719Z
LAST-MODIFIED:20250804T072300Z
UID:10000340-1760022000-1760043600@juneauyc.org
SUMMARY:JYC Social
DESCRIPTION:Whole Facility \nRestacking Tables & Chairs \nWashing of Dishes
URL:https://juneauyc.org/event/jyc-social-3-2-2/2025-10-09
LOCATION:AK
END:VEVENT
BEGIN:VEVENT
DTSTART;TZID=America/Anchorage:20251011T100000
DTEND;TZID=America/Anchorage:20251011T190000
DTSTAMP:20260423T153132
CREATED:20250821T200351Z
LAST-MODIFIED:20250821T200351Z
UID:10001114-1760176800-1760209200@juneauyc.org
SUMMARY:Baby Shower
DESCRIPTION:Main Hall Only – Lisa Arehart
URL:https://juneauyc.org/event/baby-shower-10
LOCATION:Juneau Yacht Club\, 1301 Harbor Way\, Juneau\, AK\, 99801\, United States
END:VEVENT
BEGIN:VEVENT
DTSTART;TZID=America/Anchorage:20251012T100000
DTEND;TZID=America/Anchorage:20251012T160000
DTSTAMP:20260423T153132
CREATED:20250823T113612Z
LAST-MODIFIED:20250823T113612Z
UID:10001116-1760263200-1760284800@juneauyc.org
SUMMARY:Handley Celebration of Life
DESCRIPTION:Entire Facility – William Merk
URL:https://juneauyc.org/event/handley-celebration-of-life
LOCATION:Juneau Yacht Club\, 1301 Harbor Way\, Juneau\, AK\, 99801\, United States
END:VEVENT
BEGIN:VEVENT
DTSTART;TZID=America/Anchorage:20251015T163000
DTEND;TZID=America/Anchorage:20251015T200000
DTSTAMP:20260423T153132
CREATED:20251001T154704Z
LAST-MODIFIED:20251001T154704Z
UID:10001130-1760545800-1760558400@juneauyc.org
SUMMARY:CBJ Docks & Harbors - Aurora Drive Down Float - Public Information Meeting - Presentation by PND Engineers\, Inc.
DESCRIPTION:Main Hall\, Restacking of Table/Chairs – Leah Narum
URL:https://juneauyc.org/event/cbj-docks-harbors-aurora-drive-down-float-public-information-meeting-presentation-by-pnd-engineers-inc
LOCATION:Juneau Yacht Club\, 1301 Harbor Way\, Juneau\, AK\, 99801\, United States
END:VEVENT
BEGIN:VEVENT
DTSTART;TZID=America/Anchorage:20251016T150000
DTEND;TZID=America/Anchorage:20251016T210000
DTSTAMP:20260423T153132
CREATED:20240628T204719Z
LAST-MODIFIED:20250804T072300Z
UID:10000341-1760626800-1760648400@juneauyc.org
SUMMARY:JYC Social
DESCRIPTION:Whole Facility \nRestacking Tables & Chairs \nWashing of Dishes
URL:https://juneauyc.org/event/jyc-social-3-2-2/2025-10-16
LOCATION:AK
END:VEVENT
BEGIN:VEVENT
DTSTART;TZID=America/Anchorage:20251018T140000
DTEND;TZID=America/Anchorage:20251018T180000
DTSTAMP:20260423T153132
CREATED:20250926T170231Z
LAST-MODIFIED:20250926T170231Z
UID:10001129-1760796000-1760810400@juneauyc.org
SUMMARY:Mead Wedding
DESCRIPTION:Main Hall\, Restacking of Tables and Chairs – Keelin Mead
URL:https://juneauyc.org/event/mead-wedding
LOCATION:Juneau Yacht Club\, 1301 Harbor Way\, Juneau\, AK\, 99801\, United States
END:VEVENT
BEGIN:VEVENT
DTSTART;TZID=America/Anchorage:20251023T150000
DTEND;TZID=America/Anchorage:20251023T210000
DTSTAMP:20260423T153132
CREATED:20240628T204719Z
LAST-MODIFIED:20250804T072300Z
UID:10000342-1761231600-1761253200@juneauyc.org
SUMMARY:JYC Social
DESCRIPTION:Whole Facility \nRestacking Tables & Chairs \nWashing of Dishes
URL:https://juneauyc.org/event/jyc-social-3-2-2/2025-10-23
LOCATION:AK
END:VEVENT
BEGIN:VEVENT
DTSTART;TZID=America/Anchorage:20251030T150000
DTEND;TZID=America/Anchorage:20251030T210000
DTSTAMP:20260423T153132
CREATED:20240628T204719Z
LAST-MODIFIED:20250804T072300Z
UID:10000343-1761836400-1761858000@juneauyc.org
SUMMARY:JYC Social
DESCRIPTION:Whole Facility \nRestacking Tables & Chairs \nWashing of Dishes
URL:https://juneauyc.org/event/jyc-social-3-2-2/2025-10-30
LOCATION:AK
END:VEVENT
BEGIN:VEVENT
DTSTART;TZID=America/Anchorage:20251031T150000
DTEND;TZID=America/Anchorage:20251031T210000
DTSTAMP:20260423T153132
CREATED:20241023T224714Z
LAST-MODIFIED:20241023T224714Z
UID:10000909-1761922800-1761944400@juneauyc.org
SUMMARY:Pioneers of Alaska Meeting
DESCRIPTION:Main Hall – Fredrik Thorsteinson
URL:https://juneauyc.org/event/pioneers-of-alaska-meeting-7
LOCATION:Juneau Yacht Club\, 1301 Harbor Way\, Juneau\, AK\, 99801\, United States
END:VEVENT
END:VCALENDAR