BEGIN:VCALENDAR
VERSION:2.0
PRODID:-//Juneau Yacht Club - ECPv6.15.20//NONSGML v1.0//EN
CALSCALE:GREGORIAN
METHOD:PUBLISH
X-WR-CALNAME:Juneau Yacht Club
X-ORIGINAL-URL:https://juneauyc.org
X-WR-CALDESC:Events for Juneau Yacht Club
REFRESH-INTERVAL;VALUE=DURATION:PT1H
X-Robots-Tag:noindex
X-PUBLISHED-TTL:PT1H
BEGIN:VTIMEZONE
TZID:America/Anchorage
BEGIN:DAYLIGHT
TZOFFSETFROM:-0900
TZOFFSETTO:-0800
TZNAME:AKDT
DTSTART:20240310T110000
END:DAYLIGHT
BEGIN:STANDARD
TZOFFSETFROM:-0800
TZOFFSETTO:-0900
TZNAME:AKST
DTSTART:20241103T100000
END:STANDARD
BEGIN:DAYLIGHT
TZOFFSETFROM:-0900
TZOFFSETTO:-0800
TZNAME:AKDT
DTSTART:20250309T110000
END:DAYLIGHT
BEGIN:STANDARD
TZOFFSETFROM:-0800
TZOFFSETTO:-0900
TZNAME:AKST
DTSTART:20251102T100000
END:STANDARD
BEGIN:DAYLIGHT
TZOFFSETFROM:-0900
TZOFFSETTO:-0800
TZNAME:AKDT
DTSTART:20260308T110000
END:DAYLIGHT
BEGIN:STANDARD
TZOFFSETFROM:-0800
TZOFFSETTO:-0900
TZNAME:AKST
DTSTART:20261101T100000
END:STANDARD
END:VTIMEZONE
BEGIN:VEVENT
DTSTART;TZID=America/Anchorage:20251101T080000
DTEND;TZID=America/Anchorage:20251101T200000
DTSTAMP:20260423T084230
CREATED:20251003T152122Z
LAST-MODIFIED:20251003T152122Z
UID:10001132-1761984000-1762027200@juneauyc.org
SUMMARY:Brother's Payoff Party
DESCRIPTION:Main Hall – Nancy Cimmino
URL:https://juneauyc.org/event/brothers-payoff-party
LOCATION:Juneau Yacht Club\, 1301 Harbor Way\, Juneau\, AK\, 99801\, United States
END:VEVENT
BEGIN:VEVENT
DTSTART;TZID=America/Anchorage:20251106T150000
DTEND;TZID=America/Anchorage:20251106T210000
DTSTAMP:20260423T084230
CREATED:20251101T230925Z
LAST-MODIFIED:20260223T084322Z
UID:10000344-1762441200-1762462800@juneauyc.org
SUMMARY:JYC Social
DESCRIPTION:Whole Facility \nRestacking Tables & Chairs \nWashing of Dishes
URL:https://juneauyc.org/event/jyc-social-3-2-2-2/2025-11-06
LOCATION:Juneau Yacht Club\, 1301 Harbor Way\, Juneau\, AK\, 99801\, United States
END:VEVENT
BEGIN:VEVENT
DTSTART;TZID=America/Anchorage:20251108T090000
DTEND;TZID=America/Anchorage:20251108T130000
DTSTAMP:20260423T084230
CREATED:20241029T234821Z
LAST-MODIFIED:20251030T024801Z
UID:10000915-1762592400-1762606800@juneauyc.org
SUMMARY:Sons of Norway - Bazaar
DESCRIPTION:Main Hall Only – Thomas Emerson
URL:https://juneauyc.org/event/sons-of-norway-bazaar-2
LOCATION:Juneau Yacht Club\, 1301 Harbor Way\, Juneau\, AK\, 99801\, United States
END:VEVENT
BEGIN:VEVENT
DTSTART;TZID=America/Anchorage:20251108T110000
DTEND;TZID=America/Anchorage:20251108T140000
DTSTAMP:20260423T084230
CREATED:20251004T191803Z
LAST-MODIFIED:20251004T191803Z
UID:10001133-1762599600-1762610400@juneauyc.org
SUMMARY:Sabrina's Baby Shower
DESCRIPTION:Graham Room Only – Colleen Chapman
URL:https://juneauyc.org/event/sabrinas-baby-shower
LOCATION:Juneau Yacht Club\, 1301 Harbor Way\, Juneau\, AK\, 99801\, United States
END:VEVENT
BEGIN:VEVENT
DTSTART;TZID=America/Anchorage:20251110T120000
DTEND;TZID=America/Anchorage:20251110T210000
DTSTAMP:20260423T084230
CREATED:20250614T145038Z
LAST-MODIFIED:20250902T174945Z
UID:10001089-1762776000-1762808400@juneauyc.org
SUMMARY:USMC Birthday
DESCRIPTION:Entire Facility – US Navy League – Juneau Council
URL:https://juneauyc.org/event/marines-birthday
LOCATION:Juneau Yacht Club\, 1301 Harbor Way\, Juneau\, AK\, 99801\, United States
END:VEVENT
BEGIN:VEVENT
DTSTART;TZID=America/Anchorage:20251113T150000
DTEND;TZID=America/Anchorage:20251113T210000
DTSTAMP:20260423T084230
CREATED:20251101T230925Z
LAST-MODIFIED:20260223T084322Z
UID:10000345-1763046000-1763067600@juneauyc.org
SUMMARY:JYC Social
DESCRIPTION:Whole Facility \nRestacking Tables & Chairs \nWashing of Dishes
URL:https://juneauyc.org/event/jyc-social-3-2-2-2/2025-11-13
LOCATION:Juneau Yacht Club\, 1301 Harbor Way\, Juneau\, AK\, 99801\, United States
END:VEVENT
BEGIN:VEVENT
DTSTART;TZID=America/Anchorage:20251114T150000
DTEND;TZID=America/Anchorage:20251114T213000
DTSTAMP:20260423T084230
CREATED:20240925T193757Z
LAST-MODIFIED:20240925T193757Z
UID:10000884-1763132400-1763155800@juneauyc.org
SUMMARY:Dinner Meeting
DESCRIPTION:Main Hall – Pioneers of Alaska
URL:https://juneauyc.org/event/dinner-meeting-17
LOCATION:Juneau Yacht Club\, 1301 Harbor Way\, Juneau\, AK\, 99801\, United States
END:VEVENT
BEGIN:VEVENT
DTSTART;TZID=America/Anchorage:20251115T120000
DTEND;TZID=America/Anchorage:20251115T220000
DTSTAMP:20260423T084230
CREATED:20250729T215800Z
LAST-MODIFIED:20250729T215800Z
UID:10001099-1763208000-1763244000@juneauyc.org
SUMMARY:Friends Giving (Private Event)
DESCRIPTION:Main Hall only – Lucas Webber
URL:https://juneauyc.org/event/friends-giving-private-event
LOCATION:Juneau Yacht Club\, 1301 Harbor Way\, Juneau\, AK\, 99801\, United States
END:VEVENT
BEGIN:VEVENT
DTSTART;TZID=America/Anchorage:20251120T150000
DTEND;TZID=America/Anchorage:20251120T210000
DTSTAMP:20260423T084230
CREATED:20251101T230925Z
LAST-MODIFIED:20260223T084322Z
UID:10000346-1763650800-1763672400@juneauyc.org
SUMMARY:JYC Social
DESCRIPTION:Whole Facility \nRestacking Tables & Chairs \nWashing of Dishes
URL:https://juneauyc.org/event/jyc-social-3-2-2-2/2025-11-20
LOCATION:Juneau Yacht Club\, 1301 Harbor Way\, Juneau\, AK\, 99801\, United States
END:VEVENT
BEGIN:VEVENT
DTSTART;TZID=America/Anchorage:20251122T090000
DTEND;TZID=America/Anchorage:20251122T210000
DTSTAMP:20260423T084230
CREATED:20250703T175920Z
LAST-MODIFIED:20250703T175920Z
UID:10001092-1763802000-1763845200@juneauyc.org
SUMMARY:Wedding & Reception
DESCRIPTION:Main Hall Only – Tom Dawson
URL:https://juneauyc.org/event/wedding-reception-29
LOCATION:Juneau Yacht Club\, 1301 Harbor Way\, Juneau\, AK\, 99801\, United States
END:VEVENT
BEGIN:VEVENT
DTSTART;TZID=America/Anchorage:20251127T110000
DTEND;TZID=America/Anchorage:20251127T130000
DTSTAMP:20260423T084230
CREATED:20250306T001615Z
LAST-MODIFIED:20250306T201118Z
UID:10001019-1764241200-1764248400@juneauyc.org
SUMMARY:Salvation Army Community Thanksgiving Dinner
DESCRIPTION:Entire Facility – Victoria Godkin
URL:https://juneauyc.org/event/salvation-army-community-thanksgiving-dinner
LOCATION:Juneau Yacht Club\, 1301 Harbor Way\, Juneau\, AK\, 99801\, United States
END:VEVENT
END:VCALENDAR